BEGIN:VCALENDAR
VERSION:2.0
PRODID:-//Shriners of BC and Yukon - ECPv6.15.18//NONSGML v1.0//EN
CALSCALE:GREGORIAN
METHOD:PUBLISH
X-WR-CALNAME:Shriners of BC and Yukon
X-ORIGINAL-URL:https://bcshriners.com
X-WR-CALDESC:Events for Shriners of BC and Yukon
REFRESH-INTERVAL;VALUE=DURATION:PT1H
X-Robots-Tag:noindex
X-PUBLISHED-TTL:PT1H
BEGIN:VTIMEZONE
TZID:UTC
BEGIN:STANDARD
TZOFFSETFROM:+0000
TZOFFSETTO:+0000
TZNAME:UTC
DTSTART:20240101T000000
END:STANDARD
END:VTIMEZONE
BEGIN:VEVENT
DTSTART;TZID=UTC:20250502T000000
DTEND;TZID=UTC:20250502T000000
DTSTAMP:20260426T014008
CREATED:20250502T015230Z
LAST-MODIFIED:20250502T015230Z
UID:7835-1746144000-1746144000@bcshriners.com
SUMMARY:GREGORY NICHOLLS
DESCRIPTION:
URL:https://bcshriners.com/details/gregory-nicholls-5/
CATEGORIES:2025 Cash Calendar
END:VEVENT
BEGIN:VEVENT
DTSTART;TZID=UTC:20250503T000000
DTEND;TZID=UTC:20250503T000000
DTSTAMP:20260426T014008
CREATED:20250502T015231Z
LAST-MODIFIED:20250502T015231Z
UID:7836-1746230400-1746230400@bcshriners.com
SUMMARY:ALEX  BRODIE
DESCRIPTION:
URL:https://bcshriners.com/details/alex-brodie/
CATEGORIES:2025 Cash Calendar
END:VEVENT
BEGIN:VEVENT
DTSTART;TZID=UTC:20250504T000000
DTEND;TZID=UTC:20250504T000000
DTSTAMP:20260426T014008
CREATED:20250502T015231Z
LAST-MODIFIED:20250502T015231Z
UID:7837-1746316800-1746316800@bcshriners.com
SUMMARY:BRUCE DOWNTON
DESCRIPTION:
URL:https://bcshriners.com/details/bruce-downton-5/
CATEGORIES:2025 Cash Calendar
END:VEVENT
BEGIN:VEVENT
DTSTART;TZID=UTC:20250505T000000
DTEND;TZID=UTC:20250505T000000
DTSTAMP:20260426T014008
CREATED:20250502T015231Z
LAST-MODIFIED:20250502T015231Z
UID:7838-1746403200-1746403200@bcshriners.com
SUMMARY:MARY FERNIHOUGH
DESCRIPTION:
URL:https://bcshriners.com/details/mary-fernihough-5/
CATEGORIES:2025 Cash Calendar
END:VEVENT
BEGIN:VEVENT
DTSTART;TZID=UTC:20250506T000000
DTEND;TZID=UTC:20250506T000000
DTSTAMP:20260426T014008
CREATED:20250502T015233Z
LAST-MODIFIED:20250502T015233Z
UID:7839-1746489600-1746489600@bcshriners.com
SUMMARY:ROBYN LARDEN
DESCRIPTION:
URL:https://bcshriners.com/details/robyn-larden/
CATEGORIES:2025 Cash Calendar
END:VEVENT
BEGIN:VEVENT
DTSTART;TZID=UTC:20250507T000000
DTEND;TZID=UTC:20250507T000000
DTSTAMP:20260426T014008
CREATED:20250502T015233Z
LAST-MODIFIED:20250502T015233Z
UID:7840-1746576000-1746576000@bcshriners.com
SUMMARY:STEPHEN FUNK
DESCRIPTION:
URL:https://bcshriners.com/details/stephen-funk/
CATEGORIES:2025 Cash Calendar
END:VEVENT
BEGIN:VEVENT
DTSTART;TZID=UTC:20250508T000000
DTEND;TZID=UTC:20250508T000000
DTSTAMP:20260426T014008
CREATED:20250502T015234Z
LAST-MODIFIED:20250502T015234Z
UID:7841-1746662400-1746662400@bcshriners.com
SUMMARY:JOSCELYN  KRAUSKOPF
DESCRIPTION:
URL:https://bcshriners.com/details/joscelyn-krauskopf/
CATEGORIES:2025 Cash Calendar
END:VEVENT
BEGIN:VEVENT
DTSTART;TZID=UTC:20250509T000000
DTEND;TZID=UTC:20250509T000000
DTSTAMP:20260426T014008
CREATED:20250502T015234Z
LAST-MODIFIED:20250502T015234Z
UID:7842-1746748800-1746748800@bcshriners.com
SUMMARY:GREGORY NICHOLLS
DESCRIPTION:
URL:https://bcshriners.com/details/gregory-nicholls-6/
CATEGORIES:2025 Cash Calendar
END:VEVENT
BEGIN:VEVENT
DTSTART;TZID=UTC:20250510T000000
DTEND;TZID=UTC:20250510T000000
DTSTAMP:20260426T014008
CREATED:20250502T015234Z
LAST-MODIFIED:20250502T015234Z
UID:7843-1746835200-1746835200@bcshriners.com
SUMMARY:ALEX  BRODIE
DESCRIPTION:
URL:https://bcshriners.com/details/alex-brodie-2/
CATEGORIES:2025 Cash Calendar
END:VEVENT
BEGIN:VEVENT
DTSTART;TZID=UTC:20250511T000000
DTEND;TZID=UTC:20250511T000000
DTSTAMP:20260426T014008
CREATED:20250502T015324Z
LAST-MODIFIED:20250502T015324Z
UID:7844-1746921600-1746921600@bcshriners.com
SUMMARY:TIM ROARK
DESCRIPTION:
URL:https://bcshriners.com/details/tim-roark-4/
CATEGORIES:2025 Cash Calendar
END:VEVENT
BEGIN:VEVENT
DTSTART;TZID=UTC:20250512T000000
DTEND;TZID=UTC:20250512T000000
DTSTAMP:20260426T014008
CREATED:20250502T015325Z
LAST-MODIFIED:20250502T015325Z
UID:7845-1747008000-1747008000@bcshriners.com
SUMMARY:ALBERT BEGGS
DESCRIPTION:
URL:https://bcshriners.com/details/albert-beggs-4/
CATEGORIES:2025 Cash Calendar
END:VEVENT
BEGIN:VEVENT
DTSTART;TZID=UTC:20250513T000000
DTEND;TZID=UTC:20250513T000000
DTSTAMP:20260426T014008
CREATED:20250502T015325Z
LAST-MODIFIED:20250502T015325Z
UID:7846-1747094400-1747094400@bcshriners.com
SUMMARY:CORINNE ALEXANDER
DESCRIPTION:
URL:https://bcshriners.com/details/corinne-alexander/
CATEGORIES:2025 Cash Calendar
END:VEVENT
BEGIN:VEVENT
DTSTART;TZID=UTC:20250514T000000
DTEND;TZID=UTC:20250514T000000
DTSTAMP:20260426T014008
CREATED:20250502T015325Z
LAST-MODIFIED:20250502T015325Z
UID:7847-1747180800-1747180800@bcshriners.com
SUMMARY:SHAUNA PETERSON
DESCRIPTION:
URL:https://bcshriners.com/details/shauna-peterson/
CATEGORIES:2025 Cash Calendar
END:VEVENT
BEGIN:VEVENT
DTSTART;TZID=UTC:20250515T000000
DTEND;TZID=UTC:20250515T000000
DTSTAMP:20260426T014008
CREATED:20250502T015325Z
LAST-MODIFIED:20250502T015325Z
UID:7848-1747267200-1747267200@bcshriners.com
SUMMARY:SUE VICKERY DONALDSON
DESCRIPTION:
URL:https://bcshriners.com/details/sue-vickery-donaldson/
CATEGORIES:2025 Cash Calendar
END:VEVENT
BEGIN:VEVENT
DTSTART;TZID=UTC:20250516T000000
DTEND;TZID=UTC:20250516T000000
DTSTAMP:20260426T014008
CREATED:20250502T015328Z
LAST-MODIFIED:20250502T015328Z
UID:7849-1747353600-1747353600@bcshriners.com
SUMMARY:RAYMOND MIDDLEMISS
DESCRIPTION:
URL:https://bcshriners.com/details/raymond-middlemiss-5/
CATEGORIES:2025 Cash Calendar
END:VEVENT
BEGIN:VEVENT
DTSTART;TZID=UTC:20250517T000000
DTEND;TZID=UTC:20250517T000000
DTSTAMP:20260426T014008
CREATED:20250502T015328Z
LAST-MODIFIED:20250502T015328Z
UID:7850-1747440000-1747440000@bcshriners.com
SUMMARY:AUBREY SEARLE
DESCRIPTION:
URL:https://bcshriners.com/details/aubrey-searle-3/
CATEGORIES:2025 Cash Calendar
END:VEVENT
BEGIN:VEVENT
DTSTART;TZID=UTC:20250518T000000
DTEND;TZID=UTC:20250518T000000
DTSTAMP:20260426T014008
CREATED:20250502T015329Z
LAST-MODIFIED:20250502T015329Z
UID:7851-1747526400-1747526400@bcshriners.com
SUMMARY:DIANA ENDEAN
DESCRIPTION:
URL:https://bcshriners.com/details/diana-endean-2/
CATEGORIES:2025 Cash Calendar
END:VEVENT
BEGIN:VEVENT
DTSTART;TZID=UTC:20250519T000000
DTEND;TZID=UTC:20250519T000000
DTSTAMP:20260426T014008
CREATED:20250502T015329Z
LAST-MODIFIED:20250502T015329Z
UID:7852-1747612800-1747612800@bcshriners.com
SUMMARY:JOAN CALOREN
DESCRIPTION:
URL:https://bcshriners.com/details/joan-caloren-3/
CATEGORIES:2025 Cash Calendar
END:VEVENT
BEGIN:VEVENT
DTSTART;TZID=UTC:20250520T000000
DTEND;TZID=UTC:20250520T000000
DTSTAMP:20260426T014008
CREATED:20250502T015329Z
LAST-MODIFIED:20250502T015329Z
UID:7853-1747699200-1747699200@bcshriners.com
SUMMARY:DENNIS  GROVES
DESCRIPTION:
URL:https://bcshriners.com/details/dennis-groves/
CATEGORIES:2025 Cash Calendar
END:VEVENT
BEGIN:VEVENT
DTSTART;TZID=UTC:20250521T000000
DTEND;TZID=UTC:20250521T000000
DTSTAMP:20260426T014008
CREATED:20250502T015338Z
LAST-MODIFIED:20250502T015338Z
UID:7854-1747785600-1747785600@bcshriners.com
SUMMARY:ALIDA VAN THIEL
DESCRIPTION:
URL:https://bcshriners.com/details/alida-van-thiel/
CATEGORIES:2025 Cash Calendar
END:VEVENT
BEGIN:VEVENT
DTSTART;TZID=UTC:20250522T000000
DTEND;TZID=UTC:20250522T000000
DTSTAMP:20260426T014008
CREATED:20250502T015339Z
LAST-MODIFIED:20250502T015339Z
UID:7855-1747872000-1747872000@bcshriners.com
SUMMARY:SHAWNA KIRBY
DESCRIPTION:
URL:https://bcshriners.com/details/shawna-kirby-2/
CATEGORIES:2025 Cash Calendar
END:VEVENT
BEGIN:VEVENT
DTSTART;TZID=UTC:20250523T000000
DTEND;TZID=UTC:20250523T000000
DTSTAMP:20260426T014008
CREATED:20250502T015339Z
LAST-MODIFIED:20250502T015339Z
UID:7856-1747958400-1747958400@bcshriners.com
SUMMARY:HEATHER PHILLIPS
DESCRIPTION:
URL:https://bcshriners.com/details/heather-phillips/
CATEGORIES:2025 Cash Calendar
END:VEVENT
BEGIN:VEVENT
DTSTART;TZID=UTC:20250524T000000
DTEND;TZID=UTC:20250524T000000
DTSTAMP:20260426T014008
CREATED:20250502T015339Z
LAST-MODIFIED:20250502T015339Z
UID:7857-1748044800-1748044800@bcshriners.com
SUMMARY:ALIDA VAN THIEL
DESCRIPTION:
URL:https://bcshriners.com/details/alida-van-thiel-2/
CATEGORIES:2025 Cash Calendar
END:VEVENT
BEGIN:VEVENT
DTSTART;TZID=UTC:20250525T000000
DTEND;TZID=UTC:20250525T000000
DTSTAMP:20260426T014008
CREATED:20250502T015339Z
LAST-MODIFIED:20250502T015339Z
UID:7858-1748131200-1748131200@bcshriners.com
SUMMARY:ROBERT MORTON
DESCRIPTION:
URL:https://bcshriners.com/details/robert-morton/
CATEGORIES:2025 Cash Calendar
END:VEVENT
BEGIN:VEVENT
DTSTART;TZID=UTC:20250526T000000
DTEND;TZID=UTC:20250526T000000
DTSTAMP:20260426T014008
CREATED:20250502T015348Z
LAST-MODIFIED:20250502T015348Z
UID:7859-1748217600-1748217600@bcshriners.com
SUMMARY:DOREEN PEDERSEN
DESCRIPTION:
URL:https://bcshriners.com/details/doreen-pedersen-2/
CATEGORIES:2025 Cash Calendar
END:VEVENT
BEGIN:VEVENT
DTSTART;TZID=UTC:20250527T000000
DTEND;TZID=UTC:20250527T000000
DTSTAMP:20260426T014008
CREATED:20250502T015348Z
LAST-MODIFIED:20250502T015348Z
UID:7860-1748304000-1748304000@bcshriners.com
SUMMARY:DOREEN PEDERSEN
DESCRIPTION:
URL:https://bcshriners.com/details/doreen-pedersen-3/
CATEGORIES:2025 Cash Calendar
END:VEVENT
BEGIN:VEVENT
DTSTART;TZID=UTC:20250528T000000
DTEND;TZID=UTC:20250528T000000
DTSTAMP:20260426T014008
CREATED:20250502T015348Z
LAST-MODIFIED:20250502T015348Z
UID:7861-1748390400-1748390400@bcshriners.com
SUMMARY:WILLIAM GILMORE
DESCRIPTION:
URL:https://bcshriners.com/details/william-gilmore-3/
CATEGORIES:2025 Cash Calendar
END:VEVENT
BEGIN:VEVENT
DTSTART;TZID=UTC:20250529T000000
DTEND;TZID=UTC:20250529T000000
DTSTAMP:20260426T014008
CREATED:20250502T015349Z
LAST-MODIFIED:20250502T015349Z
UID:7862-1748476800-1748476800@bcshriners.com
SUMMARY:DAVE  COSTA
DESCRIPTION:
URL:https://bcshriners.com/details/dave-costa-3/
CATEGORIES:2025 Cash Calendar
END:VEVENT
BEGIN:VEVENT
DTSTART;TZID=UTC:20250530T000000
DTEND;TZID=UTC:20250530T000000
DTSTAMP:20260426T014008
CREATED:20250502T015349Z
LAST-MODIFIED:20250502T015349Z
UID:7863-1748563200-1748563200@bcshriners.com
SUMMARY:MIKE NEISER
DESCRIPTION:
URL:https://bcshriners.com/details/mike-neiser-4/
CATEGORIES:2025 Cash Calendar
END:VEVENT
BEGIN:VEVENT
DTSTART;TZID=UTC:20250531T000000
DTEND;TZID=UTC:20250531T000000
DTSTAMP:20260426T014008
CREATED:20250502T015455Z
LAST-MODIFIED:20250502T015455Z
UID:7864-1748649600-1748649600@bcshriners.com
SUMMARY:ROSS NORDQUIST
DESCRIPTION:
URL:https://bcshriners.com/details/ross-nordquist/
CATEGORIES:2025 Cash Calendar
END:VEVENT
END:VCALENDAR