BEGIN:VCALENDAR
VERSION:2.0
PRODID:-//Shriners of BC and Yukon - ECPv6.15.18//NONSGML v1.0//EN
CALSCALE:GREGORIAN
METHOD:PUBLISH
X-WR-CALNAME:Shriners of BC and Yukon
X-ORIGINAL-URL:https://bcshriners.com
X-WR-CALDESC:Events for Shriners of BC and Yukon
REFRESH-INTERVAL;VALUE=DURATION:PT1H
X-Robots-Tag:noindex
X-PUBLISHED-TTL:PT1H
BEGIN:VTIMEZONE
TZID:UTC
BEGIN:STANDARD
TZOFFSETFROM:+0000
TZOFFSETTO:+0000
TZNAME:UTC
DTSTART:20240101T000000
END:STANDARD
END:VTIMEZONE
BEGIN:VEVENT
DTSTART;VALUE=DATE:20250901
DTEND;VALUE=DATE:20250902
DTSTAMP:20260425T181315
CREATED:20250901T152051Z
LAST-MODIFIED:20250901T152051Z
UID:8121-1756684800-1756771199@bcshriners.com
SUMMARY:Gay Sanders\, $25
DESCRIPTION:Gay Sanders\, $25\nWilliams Lake\, BC
URL:https://bcshriners.com/details/gay-sanders-25/
CATEGORIES:2025 Cash Calendar
END:VEVENT
BEGIN:VEVENT
DTSTART;VALUE=DATE:20250902
DTEND;VALUE=DATE:20250903
DTSTAMP:20260425T181315
CREATED:20250901T152130Z
LAST-MODIFIED:20250901T152141Z
UID:8123-1756771200-1756857599@bcshriners.com
SUMMARY:Gordon McLean $25
DESCRIPTION:Gordon McLean $25\nQualicum Beach\, BC
URL:https://bcshriners.com/details/gord-mclean-25/
CATEGORIES:2025 Cash Calendar
END:VEVENT
BEGIN:VEVENT
DTSTART;VALUE=DATE:20250903
DTEND;VALUE=DATE:20250904
DTSTAMP:20260425T181315
CREATED:20250901T152215Z
LAST-MODIFIED:20250901T152215Z
UID:8126-1756857600-1756943999@bcshriners.com
SUMMARY:Leonard Reid $25
DESCRIPTION:Leonard Reid $25\nSidney\, BC
URL:https://bcshriners.com/details/leonard-reid-25/
CATEGORIES:2025 Cash Calendar
END:VEVENT
BEGIN:VEVENT
DTSTART;VALUE=DATE:20250904
DTEND;VALUE=DATE:20250905
DTSTAMP:20260425T181315
CREATED:20250901T152251Z
LAST-MODIFIED:20250901T152251Z
UID:8128-1756944000-1757030399@bcshriners.com
SUMMARY:Dave Bulmer $25
DESCRIPTION:Dave Bulmer $25\nPrince George\, BC
URL:https://bcshriners.com/details/dave-bulmer-25/
CATEGORIES:2025 Cash Calendar
END:VEVENT
BEGIN:VEVENT
DTSTART;VALUE=DATE:20250905
DTEND;VALUE=DATE:20250906
DTSTAMP:20260425T181315
CREATED:20250901T152332Z
LAST-MODIFIED:20250901T152332Z
UID:8130-1757030400-1757116799@bcshriners.com
SUMMARY:Gregory Nicholls $25
DESCRIPTION:Gregory Nicholls $25\nDelta\, BC
URL:https://bcshriners.com/details/gregory-nicholls-25-3/
CATEGORIES:2025 Cash Calendar
END:VEVENT
BEGIN:VEVENT
DTSTART;VALUE=DATE:20250906
DTEND;VALUE=DATE:20250907
DTSTAMP:20260425T181315
CREATED:20250901T152426Z
LAST-MODIFIED:20250901T152745Z
UID:8132-1757116800-1757203199@bcshriners.com
SUMMARY:Tim Roark $100
DESCRIPTION:Tim Roark $100\nSurrey\, BC
URL:https://bcshriners.com/details/tim-roark-25-4/
CATEGORIES:2025 Cash Calendar
END:VEVENT
BEGIN:VEVENT
DTSTART;VALUE=DATE:20250907
DTEND;VALUE=DATE:20250908
DTSTAMP:20260425T181315
CREATED:20250901T152506Z
LAST-MODIFIED:20250901T152805Z
UID:8134-1757203200-1757289599@bcshriners.com
SUMMARY:Alan Cross $100
DESCRIPTION:Alan Cross $100\nNanaimo\, BC
URL:https://bcshriners.com/details/alan-cross-25/
CATEGORIES:2025 Cash Calendar
END:VEVENT
BEGIN:VEVENT
DTSTART;VALUE=DATE:20250908
DTEND;VALUE=DATE:20250909
DTSTAMP:20260425T181315
CREATED:20250901T152605Z
LAST-MODIFIED:20250901T152605Z
UID:8136-1757289600-1757375999@bcshriners.com
SUMMARY:Gregory Nicholls $25
DESCRIPTION:Gregory Nicholls $25\nDelta\, BC
URL:https://bcshriners.com/details/gregory-nicholls-25-4/
CATEGORIES:2025 Cash Calendar
END:VEVENT
BEGIN:VEVENT
DTSTART;VALUE=DATE:20250909
DTEND;VALUE=DATE:20250910
DTSTAMP:20260425T181315
CREATED:20250901T152639Z
LAST-MODIFIED:20250901T152639Z
UID:8138-1757376000-1757462399@bcshriners.com
SUMMARY:Hilda McDermott $25
DESCRIPTION:Hilda McDermott $25\nNanaimo\, BC
URL:https://bcshriners.com/details/hilda-mcdermott-25/
CATEGORIES:2025 Cash Calendar
END:VEVENT
BEGIN:VEVENT
DTSTART;VALUE=DATE:20250910
DTEND;VALUE=DATE:20250911
DTSTAMP:20260425T181315
CREATED:20250901T152720Z
LAST-MODIFIED:20250901T152720Z
UID:8140-1757462400-1757548799@bcshriners.com
SUMMARY:Arja Clark $25
DESCRIPTION:Arja Clark $25\nPink Mountain\, BC
URL:https://bcshriners.com/details/arja-clark-25/
CATEGORIES:2025 Cash Calendar
END:VEVENT
BEGIN:VEVENT
DTSTART;VALUE=DATE:20250911
DTEND;VALUE=DATE:20250912
DTSTAMP:20260425T181315
CREATED:20250901T152904Z
LAST-MODIFIED:20250901T152904Z
UID:8144-1757548800-1757635199@bcshriners.com
SUMMARY:Dennis Groves $25
DESCRIPTION:Dennis Groves $25\nLac La Hache\, BC
URL:https://bcshriners.com/details/dennis-groves-25-2/
CATEGORIES:2025 Cash Calendar
END:VEVENT
BEGIN:VEVENT
DTSTART;VALUE=DATE:20250912
DTEND;VALUE=DATE:20250913
DTSTAMP:20260425T181315
CREATED:20250901T152948Z
LAST-MODIFIED:20250901T152948Z
UID:8146-1757635200-1757721599@bcshriners.com
SUMMARY:Lois Turner $25
DESCRIPTION:Lois Turner $25\nCobble Hill\, BC
URL:https://bcshriners.com/details/lois-turner-25/
CATEGORIES:2025 Cash Calendar
END:VEVENT
BEGIN:VEVENT
DTSTART;VALUE=DATE:20250913
DTEND;VALUE=DATE:20250914
DTSTAMP:20260425T181315
CREATED:20250901T153027Z
LAST-MODIFIED:20250901T153027Z
UID:8148-1757721600-1757807999@bcshriners.com
SUMMARY:Aubrey Searle $100
DESCRIPTION:Aubrey Searle $100\nSurrey\, BC
URL:https://bcshriners.com/details/aubrey-searle-100-2/
CATEGORIES:2025 Cash Calendar
END:VEVENT
BEGIN:VEVENT
DTSTART;VALUE=DATE:20250914
DTEND;VALUE=DATE:20250915
DTSTAMP:20260425T181315
CREATED:20250901T153107Z
LAST-MODIFIED:20250901T153107Z
UID:8150-1757808000-1757894399@bcshriners.com
SUMMARY:Ryan Trahon $100
DESCRIPTION:Ryan Trahon $100\nCharlie Lake\, BC
URL:https://bcshriners.com/details/ryan-trahon-100/
CATEGORIES:2025 Cash Calendar
END:VEVENT
BEGIN:VEVENT
DTSTART;VALUE=DATE:20250915
DTEND;VALUE=DATE:20250916
DTSTAMP:20260425T181315
CREATED:20250901T153153Z
LAST-MODIFIED:20250901T153153Z
UID:8152-1757894400-1757980799@bcshriners.com
SUMMARY:Gordon McLean $25
DESCRIPTION:Gordon McLean $25\,\nQualicum Beach\, BC
URL:https://bcshriners.com/details/gordon-mclean-25/
CATEGORIES:2025 Cash Calendar
END:VEVENT
BEGIN:VEVENT
DTSTART;VALUE=DATE:20250916
DTEND;VALUE=DATE:20250917
DTSTAMP:20260425T181315
CREATED:20250901T153238Z
LAST-MODIFIED:20250901T153238Z
UID:8154-1757980800-1758067199@bcshriners.com
SUMMARY:Celine Boulay $25
DESCRIPTION:Celine Boulay $25
URL:https://bcshriners.com/details/celine-boulay-25/
CATEGORIES:2025 Cash Calendar
END:VEVENT
BEGIN:VEVENT
DTSTART;VALUE=DATE:20250917
DTEND;VALUE=DATE:20250918
DTSTAMP:20260425T181315
CREATED:20250901T153311Z
LAST-MODIFIED:20250901T153311Z
UID:8156-1758067200-1758153599@bcshriners.com
SUMMARY:James Strachan $25
DESCRIPTION:James Strachan $25
URL:https://bcshriners.com/details/james-strachan-25/
CATEGORIES:2025 Cash Calendar
END:VEVENT
BEGIN:VEVENT
DTSTART;VALUE=DATE:20250918
DTEND;VALUE=DATE:20250919
DTSTAMP:20260425T181315
CREATED:20250901T153348Z
LAST-MODIFIED:20250901T153348Z
UID:8158-1758153600-1758239999@bcshriners.com
SUMMARY:Ellie Bishop $25
DESCRIPTION:Ellie Bishop $25
URL:https://bcshriners.com/details/ellie-bishop-25/
CATEGORIES:2025 Cash Calendar
END:VEVENT
BEGIN:VEVENT
DTSTART;VALUE=DATE:20250919
DTEND;VALUE=DATE:20250920
DTSTAMP:20260425T181315
CREATED:20250901T153424Z
LAST-MODIFIED:20250901T153424Z
UID:8160-1758240000-1758326399@bcshriners.com
SUMMARY:Albert Beggs $25
DESCRIPTION:Albert Beggs $25\nNew Westminster\, BC
URL:https://bcshriners.com/details/albert-beggs-25-2/
CATEGORIES:2025 Cash Calendar
END:VEVENT
BEGIN:VEVENT
DTSTART;VALUE=DATE:20250920
DTEND;VALUE=DATE:20250921
DTSTAMP:20260425T181315
CREATED:20250901T153455Z
LAST-MODIFIED:20250901T153455Z
UID:8162-1758326400-1758412799@bcshriners.com
SUMMARY:Gregory Nicholls $100
DESCRIPTION:Gregory Nicholls $100\nDelta\, BC
URL:https://bcshriners.com/details/gregory-nicholls-100/
CATEGORIES:2025 Cash Calendar
END:VEVENT
BEGIN:VEVENT
DTSTART;VALUE=DATE:20250921
DTEND;VALUE=DATE:20250922
DTSTAMP:20260425T181315
CREATED:20250901T153531Z
LAST-MODIFIED:20250901T153531Z
UID:8164-1758412800-1758499199@bcshriners.com
SUMMARY:Wendy Norton $100
DESCRIPTION:Wendy Norton $100\nCampbell River\, BC
URL:https://bcshriners.com/details/wendy-norton-100/
CATEGORIES:2025 Cash Calendar
END:VEVENT
BEGIN:VEVENT
DTSTART;VALUE=DATE:20250922
DTEND;VALUE=DATE:20250923
DTSTAMP:20260425T181315
CREATED:20250901T153601Z
LAST-MODIFIED:20250901T153601Z
UID:8166-1758499200-1758585599@bcshriners.com
SUMMARY:Mary Fernihough $25
DESCRIPTION:Mary Fernihough $25\nSurrey\, BC
URL:https://bcshriners.com/details/mary-fernihough-25/
CATEGORIES:2025 Cash Calendar
END:VEVENT
BEGIN:VEVENT
DTSTART;VALUE=DATE:20250923
DTEND;VALUE=DATE:20250924
DTSTAMP:20260425T181315
CREATED:20250901T153647Z
LAST-MODIFIED:20250901T153647Z
UID:8168-1758585600-1758671999@bcshriners.com
SUMMARY:Fazal Bhimji $25
DESCRIPTION:Fazal Bhimji $25\nDelta\, BC
URL:https://bcshriners.com/details/fazal-bhimji-25-2/
CATEGORIES:2025 Cash Calendar
END:VEVENT
BEGIN:VEVENT
DTSTART;VALUE=DATE:20250924
DTEND;VALUE=DATE:20250925
DTSTAMP:20260425T181315
CREATED:20250901T153722Z
LAST-MODIFIED:20250901T153722Z
UID:8170-1758672000-1758758399@bcshriners.com
SUMMARY:Don McPherson $25
DESCRIPTION:Don McPherson $25\nSurrey\, BC
URL:https://bcshriners.com/details/don-mcpherson-25/
CATEGORIES:2025 Cash Calendar
END:VEVENT
BEGIN:VEVENT
DTSTART;VALUE=DATE:20250925
DTEND;VALUE=DATE:20250926
DTSTAMP:20260425T181315
CREATED:20250901T153756Z
LAST-MODIFIED:20250901T153756Z
UID:8172-1758758400-1758844799@bcshriners.com
SUMMARY:Penny Christie $25
DESCRIPTION:Penny Christie $25\nQualicum Beach\, BC
URL:https://bcshriners.com/details/penny-christie-25-3/
CATEGORIES:2025 Cash Calendar
END:VEVENT
BEGIN:VEVENT
DTSTART;VALUE=DATE:20250926
DTEND;VALUE=DATE:20250927
DTSTAMP:20260425T181315
CREATED:20250901T153835Z
LAST-MODIFIED:20250901T153835Z
UID:8174-1758844800-1758931199@bcshriners.com
SUMMARY:David Glew $25
DESCRIPTION:David Glew $25\nQuesnel\, BC
URL:https://bcshriners.com/details/david-glew-25/
CATEGORIES:2025 Cash Calendar
END:VEVENT
BEGIN:VEVENT
DTSTART;VALUE=DATE:20250927
DTEND;VALUE=DATE:20250928
DTSTAMP:20260425T181315
CREATED:20250901T153913Z
LAST-MODIFIED:20250901T153913Z
UID:8176-1758931200-1759017599@bcshriners.com
SUMMARY:Dana Ruehlen $100
DESCRIPTION:Dana Ruehlen $100\nCampbell River\, BC
URL:https://bcshriners.com/details/dana-ruehlen-100/
CATEGORIES:2025 Cash Calendar
END:VEVENT
BEGIN:VEVENT
DTSTART;VALUE=DATE:20250928
DTEND;VALUE=DATE:20250929
DTSTAMP:20260425T181315
CREATED:20250901T153950Z
LAST-MODIFIED:20250901T153950Z
UID:8178-1759017600-1759103999@bcshriners.com
SUMMARY:Doug Easton $100
DESCRIPTION:Doug Easton $100\nVictoria\, BC
URL:https://bcshriners.com/details/doug-easton-100/
CATEGORIES:2025 Cash Calendar
END:VEVENT
BEGIN:VEVENT
DTSTART;VALUE=DATE:20250929
DTEND;VALUE=DATE:20250930
DTSTAMP:20260425T181315
CREATED:20250901T154024Z
LAST-MODIFIED:20250901T154031Z
UID:8180-1759104000-1759190399@bcshriners.com
SUMMARY:Ab Newman $25
DESCRIPTION:Ab Newman $25\nWilliams Lake\, BC
URL:https://bcshriners.com/details/ab-newman-25/
CATEGORIES:2025 Cash Calendar
END:VEVENT
BEGIN:VEVENT
DTSTART;VALUE=DATE:20250930
DTEND;VALUE=DATE:20251001
DTSTAMP:20260425T181315
CREATED:20250901T154106Z
LAST-MODIFIED:20250901T154106Z
UID:8182-1759190400-1759276799@bcshriners.com
SUMMARY:Matt Storie $25
DESCRIPTION:Matt Storie $25\nCampbell River\, BC
URL:https://bcshriners.com/details/matt-storie-25/
CATEGORIES:2025 Cash Calendar
END:VEVENT
END:VCALENDAR