BEGIN:VCALENDAR
VERSION:2.0
PRODID:-//Shriners of BC and Yukon - ECPv6.15.18//NONSGML v1.0//EN
CALSCALE:GREGORIAN
METHOD:PUBLISH
X-WR-CALNAME:Shriners of BC and Yukon
X-ORIGINAL-URL:https://bcshriners.com
X-WR-CALDESC:Events for Shriners of BC and Yukon
REFRESH-INTERVAL;VALUE=DURATION:PT1H
X-Robots-Tag:noindex
X-PUBLISHED-TTL:PT1H
BEGIN:VTIMEZONE
TZID:UTC
BEGIN:STANDARD
TZOFFSETFROM:+0000
TZOFFSETTO:+0000
TZNAME:UTC
DTSTART:20240101T000000
END:STANDARD
END:VTIMEZONE
BEGIN:VEVENT
DTSTART;VALUE=DATE:20251101
DTEND;VALUE=DATE:20251102
DTSTAMP:20260425T144403
CREATED:20251101T162553Z
LAST-MODIFIED:20251101T162553Z
UID:8303-1761955200-1762041599@bcshriners.com
SUMMARY:John Strachan $100
DESCRIPTION:John Strachan $100 \nNew Westminster
URL:https://bcshriners.com/details/john-strachan-100/
CATEGORIES:2025 Cash Calendar
END:VEVENT
BEGIN:VEVENT
DTSTART;VALUE=DATE:20251103
DTEND;VALUE=DATE:20251104
DTSTAMP:20260425T144403
CREATED:20251101T162640Z
LAST-MODIFIED:20251101T162713Z
UID:8305-1762128000-1762214399@bcshriners.com
SUMMARY:Gale Francis Sullivan $25
DESCRIPTION:Gale Francis Sullivan $25 \nVictoria\, BC
URL:https://bcshriners.com/details/tim-roark-100-2/
CATEGORIES:2025 Cash Calendar
END:VEVENT
BEGIN:VEVENT
DTSTART;VALUE=DATE:20251104
DTEND;VALUE=DATE:20251105
DTSTAMP:20260425T144403
CREATED:20251101T162740Z
LAST-MODIFIED:20251101T162740Z
UID:8308-1762214400-1762300799@bcshriners.com
SUMMARY:Betty McCray $25
DESCRIPTION:Betty McCray $25 \nPrince George
URL:https://bcshriners.com/details/betty-mccray-25/
CATEGORIES:2025 Cash Calendar
END:VEVENT
BEGIN:VEVENT
DTSTART;VALUE=DATE:20251105
DTEND;VALUE=DATE:20251106
DTSTAMP:20260425T144403
CREATED:20251101T162820Z
LAST-MODIFIED:20251101T162820Z
UID:8310-1762300800-1762387199@bcshriners.com
SUMMARY:Aubrey Searle $25
DESCRIPTION:Aubrey Searle $25 \nLangley\, BC
URL:https://bcshriners.com/details/aubrey-searle-25-2/
CATEGORIES:2025 Cash Calendar
END:VEVENT
BEGIN:VEVENT
DTSTART;VALUE=DATE:20251106
DTEND;VALUE=DATE:20251107
DTSTAMP:20260425T144403
CREATED:20251101T162847Z
LAST-MODIFIED:20251101T162847Z
UID:8312-1762387200-1762473599@bcshriners.com
SUMMARY:Greig Parry $25
DESCRIPTION:Greig Parry $25 \nKelowna\, BC
URL:https://bcshriners.com/details/greig-parry-25/
CATEGORIES:2025 Cash Calendar
END:VEVENT
BEGIN:VEVENT
DTSTART;VALUE=DATE:20251107
DTEND;VALUE=DATE:20251108
DTSTAMP:20260425T144403
CREATED:20251101T162914Z
LAST-MODIFIED:20251101T162914Z
UID:8314-1762473600-1762559999@bcshriners.com
SUMMARY:Shauna Peterson $25
DESCRIPTION:Shauna Peterson $25 \nSmithers\, BC
URL:https://bcshriners.com/details/shauna-peterson-25-3/
CATEGORIES:2025 Cash Calendar
END:VEVENT
BEGIN:VEVENT
DTSTART;VALUE=DATE:20251108
DTEND;VALUE=DATE:20251109
DTSTAMP:20260425T144403
CREATED:20251101T162944Z
LAST-MODIFIED:20251101T162944Z
UID:8316-1762560000-1762646399@bcshriners.com
SUMMARY:Gregory Nicholls $100
DESCRIPTION:Gregory Nicholls $100 \nDelta\, BC
URL:https://bcshriners.com/details/gregory-nicholls-100-2/
CATEGORIES:2025 Cash Calendar
END:VEVENT
BEGIN:VEVENT
DTSTART;VALUE=DATE:20251109
DTEND;VALUE=DATE:20251110
DTSTAMP:20260425T144403
CREATED:20251101T163028Z
LAST-MODIFIED:20251101T163028Z
UID:8318-1762646400-1762732799@bcshriners.com
SUMMARY:Dan Brooks $100
DESCRIPTION:Dan Brooks $100 \nVanderhoof
URL:https://bcshriners.com/details/dan-brooks-100/
CATEGORIES:2025 Cash Calendar
END:VEVENT
BEGIN:VEVENT
DTSTART;VALUE=DATE:20251110
DTEND;VALUE=DATE:20251111
DTSTAMP:20260425T144403
CREATED:20251101T163109Z
LAST-MODIFIED:20251101T163109Z
UID:8320-1762732800-1762819199@bcshriners.com
SUMMARY:Gregory Nicholls $25
DESCRIPTION:Gregory Nicholls $25 \nDelta\, BC
URL:https://bcshriners.com/details/gregory-nicholls-25-7/
CATEGORIES:2025 Cash Calendar
END:VEVENT
BEGIN:VEVENT
DTSTART;VALUE=DATE:20251111
DTEND;VALUE=DATE:20251112
DTSTAMP:20260425T144403
CREATED:20251101T163148Z
LAST-MODIFIED:20251101T163148Z
UID:8322-1762819200-1762905599@bcshriners.com
SUMMARY:Garfield Coates $25
DESCRIPTION:Garfield Coates $25 \nKamloops\, BC
URL:https://bcshriners.com/details/garfield-coates-25/
CATEGORIES:2025 Cash Calendar
END:VEVENT
BEGIN:VEVENT
DTSTART;VALUE=DATE:20251112
DTEND;VALUE=DATE:20251113
DTSTAMP:20260425T144403
CREATED:20251101T163236Z
LAST-MODIFIED:20251101T163236Z
UID:8324-1762905600-1762991999@bcshriners.com
SUMMARY:Corneles Huisman $25
DESCRIPTION:Corneles Huisman $25 \nSurrey\, BC
URL:https://bcshriners.com/details/corneles-huisman-25-2/
CATEGORIES:2025 Cash Calendar
END:VEVENT
BEGIN:VEVENT
DTSTART;VALUE=DATE:20251113
DTEND;VALUE=DATE:20251114
DTSTAMP:20260425T144403
CREATED:20251101T163337Z
LAST-MODIFIED:20251101T163337Z
UID:8326-1762992000-1763078399@bcshriners.com
SUMMARY:Franz Riley $25
DESCRIPTION:Franz Riley $25
URL:https://bcshriners.com/details/franz-riley-25/
CATEGORIES:2025 Cash Calendar
END:VEVENT
BEGIN:VEVENT
DTSTART;VALUE=DATE:20251114
DTEND;VALUE=DATE:20251115
DTSTAMP:20260425T144403
CREATED:20251101T163406Z
LAST-MODIFIED:20251101T163406Z
UID:8328-1763078400-1763164799@bcshriners.com
SUMMARY:Alex Brodie $25
DESCRIPTION:Alex Brodie $25 \nSurrey\, BC
URL:https://bcshriners.com/details/alex-brodie-25-3/
CATEGORIES:2025 Cash Calendar
END:VEVENT
BEGIN:VEVENT
DTSTART;VALUE=DATE:20251115
DTEND;VALUE=DATE:20251116
DTSTAMP:20260425T144403
CREATED:20251101T163437Z
LAST-MODIFIED:20251101T163437Z
UID:8330-1763164800-1763251199@bcshriners.com
SUMMARY:Raymond Middlemass $100
DESCRIPTION:Raymond Middlemass $100 \nSechelt\, BC
URL:https://bcshriners.com/details/raymond-middlemass-100/
CATEGORIES:2025 Cash Calendar
END:VEVENT
BEGIN:VEVENT
DTSTART;VALUE=DATE:20251116
DTEND;VALUE=DATE:20251117
DTSTAMP:20260425T144403
CREATED:20251101T163512Z
LAST-MODIFIED:20251101T163512Z
UID:8332-1763251200-1763337599@bcshriners.com
SUMMARY:Jim Johnson $100
DESCRIPTION:Jim Johnson $100 \nLantzville\, BC
URL:https://bcshriners.com/details/jim-johnson-100/
CATEGORIES:2025 Cash Calendar
END:VEVENT
BEGIN:VEVENT
DTSTART;VALUE=DATE:20251117
DTEND;VALUE=DATE:20251118
DTSTAMP:20260425T144403
CREATED:20251101T163550Z
LAST-MODIFIED:20251101T163550Z
UID:8334-1763337600-1763423999@bcshriners.com
SUMMARY:Tillman Hodgson $25
DESCRIPTION:Tillman Hodgson $25 \nNanaimo\, BC
URL:https://bcshriners.com/details/tillman-hodgson-25/
CATEGORIES:2025 Cash Calendar
END:VEVENT
BEGIN:VEVENT
DTSTART;VALUE=DATE:20251118
DTEND;VALUE=DATE:20251119
DTSTAMP:20260425T144403
CREATED:20251101T163629Z
LAST-MODIFIED:20251101T163629Z
UID:8336-1763424000-1763510399@bcshriners.com
SUMMARY:Landon Bzdel $25
DESCRIPTION:Landon Bzdel $25 \nLadysmith\, BC
URL:https://bcshriners.com/details/landon-bzdel-25/
CATEGORIES:2025 Cash Calendar
END:VEVENT
BEGIN:VEVENT
DTSTART;VALUE=DATE:20251119
DTEND;VALUE=DATE:20251120
DTSTAMP:20260425T144403
CREATED:20251101T163701Z
LAST-MODIFIED:20251101T163701Z
UID:8338-1763510400-1763596799@bcshriners.com
SUMMARY:Dave Costa $25
DESCRIPTION:Dave Costa $25 \nSurrey\, BC
URL:https://bcshriners.com/details/dave-costa-25-2/
CATEGORIES:2025 Cash Calendar
END:VEVENT
BEGIN:VEVENT
DTSTART;VALUE=DATE:20251120
DTEND;VALUE=DATE:20251121
DTSTAMP:20260425T144403
CREATED:20251101T163736Z
LAST-MODIFIED:20251101T163736Z
UID:8340-1763596800-1763683199@bcshriners.com
SUMMARY:William Rogers $25
DESCRIPTION:William Rogers $25 \nCampbell River
URL:https://bcshriners.com/details/william-rogers-25/
CATEGORIES:2025 Cash Calendar
END:VEVENT
BEGIN:VEVENT
DTSTART;VALUE=DATE:20251121
DTEND;VALUE=DATE:20251122
DTSTAMP:20260425T144403
CREATED:20251101T163820Z
LAST-MODIFIED:20251101T163820Z
UID:8342-1763683200-1763769599@bcshriners.com
SUMMARY:Bruce Bower $25
DESCRIPTION:Bruce Bower $25 \nPort Coquitlam\, BC
URL:https://bcshriners.com/details/bruce-bower-25-2/
CATEGORIES:2025 Cash Calendar
END:VEVENT
BEGIN:VEVENT
DTSTART;VALUE=DATE:20251122
DTEND;VALUE=DATE:20251123
DTSTAMP:20260425T144403
CREATED:20251101T163900Z
LAST-MODIFIED:20251101T163900Z
UID:8344-1763769600-1763855999@bcshriners.com
SUMMARY:John Strachan $100
DESCRIPTION:John Strachan $100 \nNew Westminster\, BC
URL:https://bcshriners.com/details/john-strachan-100-2/
CATEGORIES:2025 Cash Calendar
END:VEVENT
BEGIN:VEVENT
DTSTART;VALUE=DATE:20251123
DTEND;VALUE=DATE:20251124
DTSTAMP:20260425T144403
CREATED:20251101T163934Z
LAST-MODIFIED:20251101T163934Z
UID:8346-1763856000-1763942399@bcshriners.com
SUMMARY:Bruce Downton $100
DESCRIPTION:Bruce Downton $100 \nVernon\, BC
URL:https://bcshriners.com/details/bruce-downton-100-2/
CATEGORIES:2025 Cash Calendar
END:VEVENT
BEGIN:VEVENT
DTSTART;VALUE=DATE:20251124
DTEND;VALUE=DATE:20251125
DTSTAMP:20260425T144403
CREATED:20251101T164006Z
LAST-MODIFIED:20251101T164006Z
UID:8348-1763942400-1764028799@bcshriners.com
SUMMARY:Gordon Bonenfant $25
DESCRIPTION:Gordon Bonenfant $25 \nTerrace\, BC
URL:https://bcshriners.com/details/gordon-bonenfant-25/
CATEGORIES:2025 Cash Calendar
END:VEVENT
BEGIN:VEVENT
DTSTART;VALUE=DATE:20251125
DTEND;VALUE=DATE:20251126
DTSTAMP:20260425T144403
CREATED:20251101T164038Z
LAST-MODIFIED:20251101T164038Z
UID:8350-1764028800-1764115199@bcshriners.com
SUMMARY:Chuck Leone $25
DESCRIPTION:Chuck Leone $25 \nCoquitlam\, BC
URL:https://bcshriners.com/details/chuck-leone-25-3/
CATEGORIES:2025 Cash Calendar
END:VEVENT
BEGIN:VEVENT
DTSTART;VALUE=DATE:20251126
DTEND;VALUE=DATE:20251127
DTSTAMP:20260425T144403
CREATED:20251101T164115Z
LAST-MODIFIED:20251101T164115Z
UID:8352-1764115200-1764201599@bcshriners.com
SUMMARY:Sam King $25
DESCRIPTION:Sam King $25 \nQualicum Beach\, BC
URL:https://bcshriners.com/details/sam-king-25/
CATEGORIES:2025 Cash Calendar
END:VEVENT
BEGIN:VEVENT
DTSTART;VALUE=DATE:20251127
DTEND;VALUE=DATE:20251128
DTSTAMP:20260425T144403
CREATED:20251101T164142Z
LAST-MODIFIED:20251101T164345Z
UID:8354-1764201600-1764287999@bcshriners.com
SUMMARY:Mike Neiser $25
DESCRIPTION:Mike Neiser $25 \nSmithers\, BC
URL:https://bcshriners.com/details/mike-neiser-25-2/
CATEGORIES:2025 Cash Calendar
END:VEVENT
BEGIN:VEVENT
DTSTART;VALUE=DATE:20251128
DTEND;VALUE=DATE:20251129
DTSTAMP:20260425T144403
CREATED:20251101T164208Z
LAST-MODIFIED:20251101T164208Z
UID:8356-1764288000-1764374399@bcshriners.com
SUMMARY:Mike Neiser $25
DESCRIPTION:Mike Neiser $25 \nSmithers\, BC
URL:https://bcshriners.com/details/mike-neiser-25-3/
CATEGORIES:2025 Cash Calendar
END:VEVENT
BEGIN:VEVENT
DTSTART;VALUE=DATE:20251129
DTEND;VALUE=DATE:20251130
DTSTAMP:20260425T144403
CREATED:20251101T164239Z
LAST-MODIFIED:20251101T164239Z
UID:8358-1764374400-1764460799@bcshriners.com
SUMMARY:Doreen Pedersen $100
DESCRIPTION:Doreen Pedersen $100 \nFort St John\, BC
URL:https://bcshriners.com/details/doreen-pedersen-100-4/
CATEGORIES:2025 Cash Calendar
END:VEVENT
BEGIN:VEVENT
DTSTART;VALUE=DATE:20251130
DTEND;VALUE=DATE:20251201
DTSTAMP:20260425T144403
CREATED:20251101T164302Z
LAST-MODIFIED:20251101T164302Z
UID:8360-1764460800-1764547199@bcshriners.com
SUMMARY:Roland Chow $100
DESCRIPTION:Roland Chow $100 \nDuncan\, BC
URL:https://bcshriners.com/details/roland-chow-100/
CATEGORIES:2025 Cash Calendar
END:VEVENT
END:VCALENDAR