BEGIN:VCALENDAR
VERSION:2.0
PRODID:-//Shriners of BC and Yukon - ECPv6.15.18//NONSGML v1.0//EN
CALSCALE:GREGORIAN
METHOD:PUBLISH
X-WR-CALNAME:Shriners of BC and Yukon
X-ORIGINAL-URL:https://bcshriners.com
X-WR-CALDESC:Events for Shriners of BC and Yukon
REFRESH-INTERVAL;VALUE=DURATION:PT1H
X-Robots-Tag:noindex
X-PUBLISHED-TTL:PT1H
BEGIN:VTIMEZONE
TZID:America/Vancouver
BEGIN:DAYLIGHT
TZOFFSETFROM:-0800
TZOFFSETTO:-0700
TZNAME:PDT
DTSTART:20150308T100000
END:DAYLIGHT
BEGIN:STANDARD
TZOFFSETFROM:-0700
TZOFFSETTO:-0800
TZNAME:PST
DTSTART:20151101T090000
END:STANDARD
BEGIN:DAYLIGHT
TZOFFSETFROM:-0800
TZOFFSETTO:-0700
TZNAME:PDT
DTSTART:20160313T100000
END:DAYLIGHT
BEGIN:STANDARD
TZOFFSETFROM:-0700
TZOFFSETTO:-0800
TZNAME:PST
DTSTART:20161106T090000
END:STANDARD
BEGIN:DAYLIGHT
TZOFFSETFROM:-0800
TZOFFSETTO:-0700
TZNAME:PDT
DTSTART:20170312T100000
END:DAYLIGHT
BEGIN:STANDARD
TZOFFSETFROM:-0700
TZOFFSETTO:-0800
TZNAME:PST
DTSTART:20171105T090000
END:STANDARD
END:VTIMEZONE
BEGIN:VEVENT
DTSTART;TZID=America/Vancouver:20160908T190000
DTEND;TZID=America/Vancouver:20160908T210000
DTSTAMP:20260423T100355
CREATED:20160903T164350Z
LAST-MODIFIED:20160903T164517Z
UID:266-1473361200-1473368400@bcshriners.com
SUMMARY:Gizeh Building Society Meeting
DESCRIPTION:
URL:https://bcshriners.com/details/gizeh-building-society-meeting/
LOCATION:Gizeh Shrine Centre\, Canada
CATEGORIES:Fraternal
END:VEVENT
BEGIN:VEVENT
DTSTART;TZID=America/Vancouver:20160908T193000
DTEND;TZID=America/Vancouver:20160908T213000
DTSTAMP:20260423T100355
CREATED:20160903T164447Z
LAST-MODIFIED:20160903T164447Z
UID:270-1473363000-1473370200@bcshriners.com
SUMMARY:Gizeh Stated Meeting
DESCRIPTION:
URL:https://bcshriners.com/details/gizeh-stated-meeting/
CATEGORIES:Fraternal
END:VEVENT
END:VCALENDAR