BEGIN:VCALENDAR
VERSION:2.0
PRODID:-//Shriners of BC and Yukon - ECPv6.15.18//NONSGML v1.0//EN
CALSCALE:GREGORIAN
METHOD:PUBLISH
X-ORIGINAL-URL:https://bcshriners.com
X-WR-CALDESC:Events for Shriners of BC and Yukon
REFRESH-INTERVAL;VALUE=DURATION:PT1H
X-Robots-Tag:noindex
X-PUBLISHED-TTL:PT1H
BEGIN:VTIMEZONE
TZID:America/Vancouver
BEGIN:DAYLIGHT
TZOFFSETFROM:-0800
TZOFFSETTO:-0700
TZNAME:PDT
DTSTART:20150308T100000
END:DAYLIGHT
BEGIN:STANDARD
TZOFFSETFROM:-0700
TZOFFSETTO:-0800
TZNAME:PST
DTSTART:20151101T090000
END:STANDARD
BEGIN:DAYLIGHT
TZOFFSETFROM:-0800
TZOFFSETTO:-0700
TZNAME:PDT
DTSTART:20160313T100000
END:DAYLIGHT
BEGIN:STANDARD
TZOFFSETFROM:-0700
TZOFFSETTO:-0800
TZNAME:PST
DTSTART:20161106T090000
END:STANDARD
BEGIN:DAYLIGHT
TZOFFSETFROM:-0800
TZOFFSETTO:-0700
TZNAME:PDT
DTSTART:20170312T100000
END:DAYLIGHT
BEGIN:STANDARD
TZOFFSETFROM:-0700
TZOFFSETTO:-0800
TZNAME:PST
DTSTART:20171105T090000
END:STANDARD
END:VTIMEZONE
BEGIN:VEVENT
DTSTART;TZID=America/Vancouver:20161031T080000
DTEND;TZID=America/Vancouver:20161106T230000
DTSTAMP:20260419T151752
CREATED:20160903T164639Z
LAST-MODIFIED:20161102T171754Z
UID:272-1477900800-1478473200@bcshriners.com
SUMMARY:Shriners Hospital for Children Open
DESCRIPTION:
URL:https://bcshriners.com/details/shriners-hospital-for-children-open/
LOCATION:Las Vegas\, United States
CATEGORIES:Fraternal
END:VEVENT
BEGIN:VEVENT
DTSTART;TZID=America/Vancouver:20161117T190000
DTEND;TZID=America/Vancouver:20161117T210000
DTSTAMP:20260419T151752
CREATED:20160903T164758Z
LAST-MODIFIED:20160903T164758Z
UID:276-1479409200-1479416400@bcshriners.com
SUMMARY:Stated Meeting
DESCRIPTION:
URL:https://bcshriners.com/details/stated-meeting/
CATEGORIES:Fraternal
END:VEVENT
BEGIN:VEVENT
DTSTART;TZID=America/Vancouver:20161119T080000
DTEND;TZID=America/Vancouver:20161119T170000
DTSTAMP:20260419T151752
CREATED:20160903T164928Z
LAST-MODIFIED:20161102T171903Z
UID:278-1479542400-1479574800@bcshriners.com
SUMMARY:Fall Ceremonial
DESCRIPTION:
URL:https://bcshriners.com/details/fall-ceremonial/
CATEGORIES:Fraternal
END:VEVENT
END:VCALENDAR